BEGIN:VCALENDAR
VERSION:2.0
PRODID:-//Lynton and Lynmouth Town Council//Meeting Calendar//EN
CALSCALE:GREGORIAN
METHOD:PUBLISH
BEGIN:VEVENT
UID:72347-20260408@lyntonandlynmouthtowncouncil.gov.uk
DTSTAMP:20260419T195209Z
DTSTART;VALUE=DATE:20260408
DTEND;VALUE=DATE:20260409
SUMMARY:Estates and Amenities
DESCRIPTION:Estates &amp; Amenities Committee Meeting\nView details: https://lyntonandlynmouthtowncouncil.gov.uk/meetings/estates-and-amenities-9/
URL:https://lyntonandlynmouthtowncouncil.gov.uk/meetings/estates-and-amenities-9/
END:VEVENT
END:VCALENDAR
