BEGIN:VCALENDAR
VERSION:2.0
PRODID:-//Lynton and Lynmouth Town Council//Meeting Calendar//EN
CALSCALE:GREGORIAN
METHOD:PUBLISH
BEGIN:VEVENT
UID:72331-20260326@lyntonandlynmouthtowncouncil.gov.uk
DTSTAMP:20260420T005819Z
DTSTART;VALUE=DATE:20260326
DTEND;VALUE=DATE:20260327
SUMMARY:Full Council
DESCRIPTION:Full Council Meeting\nView details: https://lyntonandlynmouthtowncouncil.gov.uk/meetings/full-council-20/
URL:https://lyntonandlynmouthtowncouncil.gov.uk/meetings/full-council-20/
END:VEVENT
END:VCALENDAR
