BEGIN:VCALENDAR
VERSION:2.0
PRODID:-//Lynton and Lynmouth Town Council//Meeting Calendar//EN
CALSCALE:GREGORIAN
METHOD:PUBLISH
BEGIN:VEVENT
UID:72228-20251218@lyntonandlynmouthtowncouncil.gov.uk
DTSTAMP:20260423T091045Z
DTSTART;VALUE=DATE:20251218
DTEND;VALUE=DATE:20251219
SUMMARY:Full Council
DESCRIPTION:Full Council Meeting\nView details: https://lyntonandlynmouthtowncouncil.gov.uk/meetings/full-council-17/
URL:https://lyntonandlynmouthtowncouncil.gov.uk/meetings/full-council-17/
END:VEVENT
END:VCALENDAR
