BEGIN:VCALENDAR
VERSION:2.0
PRODID:-//Lynton and Lynmouth Town Council//Meeting Calendar//EN
CALSCALE:GREGORIAN
METHOD:PUBLISH
BEGIN:VEVENT
UID:72061-20250731@lyntonandlynmouthtowncouncil.gov.uk
DTSTAMP:20260423T104534Z
DTSTART;VALUE=DATE:20250731
DTEND;VALUE=DATE:20250801
SUMMARY:Full Council
DESCRIPTION:Full Council Meeting\nView details: https://lyntonandlynmouthtowncouncil.gov.uk/meetings/full-council-13/
URL:https://lyntonandlynmouthtowncouncil.gov.uk/meetings/full-council-13/
END:VEVENT
END:VCALENDAR
