BEGIN:VCALENDAR
VERSION:2.0
PRODID:-//Lynton and Lynmouth Town Council//Meeting Calendar//EN
CALSCALE:GREGORIAN
METHOD:PUBLISH
BEGIN:VEVENT
UID:72002-20250626@lyntonandlynmouthtowncouncil.gov.uk
DTSTAMP:20260421T082750Z
DTSTART;VALUE=DATE:20250626
DTEND;VALUE=DATE:20250627
SUMMARY:Full Council
DESCRIPTION:Full Council Meeting\nView details: https://lyntonandlynmouthtowncouncil.gov.uk/meetings/full-council-12/
URL:https://lyntonandlynmouthtowncouncil.gov.uk/meetings/full-council-12/
END:VEVENT
END:VCALENDAR
