BEGIN:VCALENDAR
VERSION:2.0
PRODID:-//Lynton and Lynmouth Town Council//Meeting Calendar//EN
CALSCALE:GREGORIAN
METHOD:PUBLISH
BEGIN:VEVENT
UID:71913-20240530@lyntonandlynmouthtowncouncil.gov.uk
DTSTAMP:20260423T091240Z
DTSTART;VALUE=DATE:20240530
DTEND;VALUE=DATE:20240531
SUMMARY:Full Council
DESCRIPTION:Full Council Meeting\nView details: https://lyntonandlynmouthtowncouncil.gov.uk/meetings/full-council-10/
URL:https://lyntonandlynmouthtowncouncil.gov.uk/meetings/full-council-10/
END:VEVENT
END:VCALENDAR
