BEGIN:VCALENDAR
VERSION:2.0
PRODID:-//Lynton and Lynmouth Town Council//Meeting Calendar//EN
CALSCALE:GREGORIAN
METHOD:PUBLISH
BEGIN:VEVENT
UID:71909-20240425@lyntonandlynmouthtowncouncil.gov.uk
DTSTAMP:20260421T082935Z
DTSTART;VALUE=DATE:20240425
DTEND;VALUE=DATE:20240426
SUMMARY:Full Council
DESCRIPTION:Full Council Meeting\nView details: https://lyntonandlynmouthtowncouncil.gov.uk/meetings/full-council-9/
URL:https://lyntonandlynmouthtowncouncil.gov.uk/meetings/full-council-9/
END:VEVENT
END:VCALENDAR
