BEGIN:VCALENDAR
VERSION:2.0
PRODID:-//Lynton and Lynmouth Town Council//Meeting Calendar//EN
CALSCALE:GREGORIAN
METHOD:PUBLISH
BEGIN:VEVENT
UID:71891-20250514@lyntonandlynmouthtowncouncil.gov.uk
DTSTAMP:20260420T165409Z
DTSTART;VALUE=DATE:20250514
DTEND;VALUE=DATE:20250515
SUMMARY:Estates and Amenities
DESCRIPTION:Estates &amp; Amenities Committee Meeting\nView details: https://lyntonandlynmouthtowncouncil.gov.uk/meetings/estates-and-amenities/
URL:https://lyntonandlynmouthtowncouncil.gov.uk/meetings/estates-and-amenities/
END:VEVENT
END:VCALENDAR
