BEGIN:VCALENDAR
VERSION:2.0
PRODID:-//Lynton and Lynmouth Town Council//Meeting Calendar//EN
CALSCALE:GREGORIAN
METHOD:PUBLISH
BEGIN:VEVENT
UID:71822-20250430@lyntonandlynmouthtowncouncil.gov.uk
DTSTAMP:20260425T102108Z
DTSTART;VALUE=DATE:20250430
DTEND;VALUE=DATE:20250501
SUMMARY:Extraordinary Meeting of Council
DESCRIPTION:Full Council Meeting\nView details: https://lyntonandlynmouthtowncouncil.gov.uk/meetings/extraordinary-meeting-of-council/
URL:https://lyntonandlynmouthtowncouncil.gov.uk/meetings/extraordinary-meeting-of-council/
END:VEVENT
END:VCALENDAR
