BEGIN:VCALENDAR
VERSION:2.0
PRODID:-//Lynton and Lynmouth Town Council//Meeting Calendar//EN
CALSCALE:GREGORIAN
METHOD:PUBLISH
BEGIN:VEVENT
UID:71777-20250416@lyntonandlynmouthtowncouncil.gov.uk
DTSTAMP:20260422T130625Z
DTSTART;VALUE=DATE:20250416
DTEND;VALUE=DATE:20250417
SUMMARY:Policy &#038\\; Finance
DESCRIPTION:Policy &amp; Finance Committee Meeting\nView details: https://lyntonandlynmouthtowncouncil.gov.uk/meetings/policy-finance-7/
URL:https://lyntonandlynmouthtowncouncil.gov.uk/meetings/policy-finance-7/
END:VEVENT
END:VCALENDAR
