BEGIN:VCALENDAR
VERSION:2.0
PRODID:-//Lynton and Lynmouth Town Council//Meeting Calendar//EN
CALSCALE:GREGORIAN
METHOD:PUBLISH
BEGIN:VEVENT
UID:71683-20250227@lyntonandlynmouthtowncouncil.gov.uk
DTSTAMP:20260423T091057Z
DTSTART;VALUE=DATE:20250227
DTEND;VALUE=DATE:20250228
SUMMARY:Full Council
DESCRIPTION:Full Council Meeting\nView details: https://lyntonandlynmouthtowncouncil.gov.uk/meetings/full-council-6/
URL:https://lyntonandlynmouthtowncouncil.gov.uk/meetings/full-council-6/
END:VEVENT
END:VCALENDAR
