BEGIN:VCALENDAR
VERSION:2.0
PRODID:-//Lynton and Lynmouth Town Council//Meeting Calendar//EN
CALSCALE:GREGORIAN
METHOD:PUBLISH
BEGIN:VEVENT
UID:71592-20250130@lyntonandlynmouthtowncouncil.gov.uk
DTSTAMP:20260421T084236Z
DTSTART;VALUE=DATE:20250130
DTEND;VALUE=DATE:20250131
SUMMARY:Full Council
DESCRIPTION:Full Council Meeting\nView details: https://lyntonandlynmouthtowncouncil.gov.uk/meetings/full-council-5/
URL:https://lyntonandlynmouthtowncouncil.gov.uk/meetings/full-council-5/
END:VEVENT
END:VCALENDAR
