BEGIN:VCALENDAR
VERSION:2.0
PRODID:-//Lynton and Lynmouth Town Council//Meeting Calendar//EN
CALSCALE:GREGORIAN
METHOD:PUBLISH
BEGIN:VEVENT
UID:71500-20250108@lyntonandlynmouthtowncouncil.gov.uk
DTSTAMP:20260425T102107Z
DTSTART;VALUE=DATE:20250108
DTEND;VALUE=DATE:20250109
SUMMARY:Estates &#038\\; Amenities Committee
DESCRIPTION:Estates &amp; Amenities Committee Meeting\nView details: https://lyntonandlynmouthtowncouncil.gov.uk/meetings/estates-amenities-committee-2/
URL:https://lyntonandlynmouthtowncouncil.gov.uk/meetings/estates-amenities-committee-2/
END:VEVENT
END:VCALENDAR
