BEGIN:VCALENDAR
VERSION:2.0
PRODID:-//Lynton and Lynmouth Town Council//Meeting Calendar//EN
CALSCALE:GREGORIAN
METHOD:PUBLISH
BEGIN:VEVENT
UID:71459-20241212@lyntonandlynmouthtowncouncil.gov.uk
DTSTAMP:20260423T091112Z
DTSTART;VALUE=DATE:20241212
DTEND;VALUE=DATE:20241213
SUMMARY:FULL COUNCIL
DESCRIPTION:Full Council Meeting\nView details: https://lyntonandlynmouthtowncouncil.gov.uk/meetings/full-council-3/
URL:https://lyntonandlynmouthtowncouncil.gov.uk/meetings/full-council-3/
END:VEVENT
END:VCALENDAR
