BEGIN:VCALENDAR
VERSION:2.0
PRODID:-//Lynton and Lynmouth Town Council//Meeting Calendar//EN
CALSCALE:GREGORIAN
METHOD:PUBLISH
BEGIN:VEVENT
UID:71371-20241113@lyntonandlynmouthtowncouncil.gov.uk
DTSTAMP:20260423T091358Z
DTSTART;VALUE=DATE:20241113
DTEND;VALUE=DATE:20241114
SUMMARY:Estates &#038\\; Amenities
DESCRIPTION:Estates &amp; Amenities Committee Meeting\nView details: https://lyntonandlynmouthtowncouncil.gov.uk/meetings/estates-amenities/
URL:https://lyntonandlynmouthtowncouncil.gov.uk/meetings/estates-amenities/
END:VEVENT
END:VCALENDAR
