BEGIN:VCALENDAR
VERSION:2.0
PRODID:-//Lynton and Lynmouth Town Council//Meeting Calendar//EN
CALSCALE:GREGORIAN
METHOD:PUBLISH
BEGIN:VEVENT
UID:71313-20241023@lyntonandlynmouthtowncouncil.gov.uk
DTSTAMP:20260419T195314Z
DTSTART;VALUE=DATE:20241023
DTEND;VALUE=DATE:20241024
SUMMARY:Harbour Sub-committee
DESCRIPTION:All Meeting Dates Meeting\nView details: https://lyntonandlynmouthtowncouncil.gov.uk/meetings/harbour-sub-committee/
URL:https://lyntonandlynmouthtowncouncil.gov.uk/meetings/harbour-sub-committee/
END:VEVENT
END:VCALENDAR
