BEGIN:VCALENDAR
VERSION:2.0
PRODID:-//Lynton and Lynmouth Town Council//Meeting Calendar//EN
CALSCALE:GREGORIAN
METHOD:PUBLISH
BEGIN:VEVENT
UID:71254-20241009@lyntonandlynmouthtowncouncil.gov.uk
DTSTAMP:20260421T083106Z
DTSTART;VALUE=DATE:20241009
DTEND;VALUE=DATE:20241010
SUMMARY:Estates &#038\\; Amenities Committee
DESCRIPTION:Estates &amp; Amenities Committee Meeting\nView details: https://lyntonandlynmouthtowncouncil.gov.uk/meetings/estates-amenities-committee/
URL:https://lyntonandlynmouthtowncouncil.gov.uk/meetings/estates-amenities-committee/
END:VEVENT
END:VCALENDAR
