BEGIN:VCALENDAR
VERSION:2.0
PRODID:-//Lynton and Lynmouth Town Council//Meeting Calendar//EN
CALSCALE:GREGORIAN
METHOD:PUBLISH
BEGIN:VEVENT
UID:71183-20240911@lyntonandlynmouthtowncouncil.gov.uk
DTSTAMP:20260423T091130Z
DTSTART;VALUE=DATE:20240911
DTEND;VALUE=DATE:20240912
SUMMARY:Estates &#038\\; Amenities Committee
DESCRIPTION:Estates &amp; Amenities Committee Meeting\nView details: https://lyntonandlynmouthtowncouncil.gov.uk/meetings/meeting-name-here/
URL:https://lyntonandlynmouthtowncouncil.gov.uk/meetings/meeting-name-here/
END:VEVENT
END:VCALENDAR
