BEGIN:VCALENDAR
VERSION:2.0
PRODID:-//Lynton and Lynmouth Town Council//Meeting Calendar//EN
CALSCALE:GREGORIAN
METHOD:PUBLISH
BEGIN:VEVENT
UID:70828-20240717@lyntonandlynmouthtowncouncil.gov.uk
DTSTAMP:20260421T084226Z
DTSTART;VALUE=DATE:20240717
DTEND;VALUE=DATE:20240718
SUMMARY:Policy &#038\\; Finance Meeting (17.07.24)
DESCRIPTION:Policy &amp; Finance Committee Meeting\nView details: https://lyntonandlynmouthtowncouncil.gov.uk/meetings/policy-finance-meeting-17-07-24/
URL:https://lyntonandlynmouthtowncouncil.gov.uk/meetings/policy-finance-meeting-17-07-24/
END:VEVENT
END:VCALENDAR
