BEGIN:VCALENDAR
VERSION:2.0
PRODID:-//Lynton and Lynmouth Town Council//Meeting Calendar//EN
CALSCALE:GREGORIAN
METHOD:PUBLISH
BEGIN:VEVENT
UID:70827-20240710@lyntonandlynmouthtowncouncil.gov.uk
DTSTAMP:20260423T105058Z
DTSTART;VALUE=DATE:20240710
DTEND;VALUE=DATE:20240711
SUMMARY:Estates &#038\\; Amenities (10.07.24)
DESCRIPTION:Estates &amp; Amenities Committee Meeting\nView details: https://lyntonandlynmouthtowncouncil.gov.uk/meetings/estates-amenities-committee-meeting-10-07-24/
URL:https://lyntonandlynmouthtowncouncil.gov.uk/meetings/estates-amenities-committee-meeting-10-07-24/
END:VEVENT
END:VCALENDAR
