BEGIN:VCALENDAR
VERSION:2.0
PRODID:-//Lynton and Lynmouth Town Council//Meeting Calendar//EN
CALSCALE:GREGORIAN
METHOD:PUBLISH
BEGIN:VEVENT
UID:70825-20240619@lyntonandlynmouthtowncouncil.gov.uk
DTSTAMP:20260419T150224Z
DTSTART;VALUE=DATE:20240619
DTEND;VALUE=DATE:20240620
SUMMARY:Policy &#038\\; Finance (19.06.24)
DESCRIPTION:Policy &amp; Finance Committee Meeting\nView details: https://lyntonandlynmouthtowncouncil.gov.uk/meetings/policy-finance-committee-meeting-19-06-24/
URL:https://lyntonandlynmouthtowncouncil.gov.uk/meetings/policy-finance-committee-meeting-19-06-24/
END:VEVENT
END:VCALENDAR
