BEGIN:VCALENDAR
VERSION:2.0
PRODID:-//Lynton and Lynmouth Town Council//Meeting Calendar//EN
CALSCALE:GREGORIAN
METHOD:PUBLISH
BEGIN:VEVENT
UID:70728-20240508@lyntonandlynmouthtowncouncil.gov.uk
DTSTAMP:20260421T082959Z
DTSTART;VALUE=DATE:20240508
DTEND;VALUE=DATE:20240509
SUMMARY:Estates &#038\\; Amenities &#8211\\; 8 May 2024
DESCRIPTION:Estates &amp; Amenities Committee Meeting\nView details: https://lyntonandlynmouthtowncouncil.gov.uk/meetings/estates-amenities-committee-may/
URL:https://lyntonandlynmouthtowncouncil.gov.uk/meetings/estates-amenities-committee-may/
END:VEVENT
END:VCALENDAR
