BEGIN:VCALENDAR
VERSION:2.0
PRODID:-//Lynton and Lynmouth Town Council//Meeting Calendar//EN
CALSCALE:GREGORIAN
METHOD:PUBLISH
BEGIN:VEVENT
UID:70605-20240221@lyntonandlynmouthtowncouncil.gov.uk
DTSTAMP:20260423T091405Z
DTSTART;VALUE=DATE:20240221
DTEND;VALUE=DATE:20240222
SUMMARY:Policy &#038\\; Finance Committee Meeting &#8211\\; 21 February 2024
DESCRIPTION:Policy &amp; Finance Committee Meeting\nView details: https://lyntonandlynmouthtowncouncil.gov.uk/meetings/policy-finance-committee-meeting-21-february-2024/
URL:https://lyntonandlynmouthtowncouncil.gov.uk/meetings/policy-finance-committee-meeting-21-february-2024/
END:VEVENT
END:VCALENDAR
