BEGIN:VCALENDAR
VERSION:2.0
PRODID:-//Lynton and Lynmouth Town Council//Meeting Calendar//EN
CALSCALE:GREGORIAN
METHOD:PUBLISH
BEGIN:VEVENT
UID:70600-20240125@lyntonandlynmouthtowncouncil.gov.uk
DTSTAMP:20260423T091228Z
DTSTART;VALUE=DATE:20240125
DTEND;VALUE=DATE:20240126
SUMMARY:Council Meeting &#8211\\; 25 January 2024
DESCRIPTION:Full Council Meeting\nView details: https://lyntonandlynmouthtowncouncil.gov.uk/meetings/council-meeting-25-january-2024/
URL:https://lyntonandlynmouthtowncouncil.gov.uk/meetings/council-meeting-25-january-2024/
END:VEVENT
END:VCALENDAR
