BEGIN:VCALENDAR
VERSION:2.0
PRODID:-//Lynton and Lynmouth Town Council//Meeting Calendar//EN
CALSCALE:GREGORIAN
METHOD:PUBLISH
BEGIN:VEVENT
UID:70598-20240117@lyntonandlynmouthtowncouncil.gov.uk
DTSTAMP:20260423T105204Z
DTSTART;VALUE=DATE:20240117
DTEND;VALUE=DATE:20240118
SUMMARY:Policy &#038\\; Finance Committee Meeting &#8211\\; 17 January 2024
DESCRIPTION:Policy &amp; Finance Committee Meeting\nView details: https://lyntonandlynmouthtowncouncil.gov.uk/meetings/policy-finance-committee-meeting-17-january-2024/
URL:https://lyntonandlynmouthtowncouncil.gov.uk/meetings/policy-finance-committee-meeting-17-january-2024/
END:VEVENT
END:VCALENDAR
