BEGIN:VCALENDAR
VERSION:2.0
PRODID:-//Lynton and Lynmouth Town Council//Meeting Calendar//EN
CALSCALE:GREGORIAN
METHOD:PUBLISH
BEGIN:VEVENT
UID:70593-20210505@lyntonandlynmouthtowncouncil.gov.uk
DTSTAMP:20260419T213845Z
DTSTART;VALUE=DATE:20210505
DTEND;VALUE=DATE:20210506
SUMMARY:Annual Council Meeting &#8211\\; 5th May 2021
DESCRIPTION:Annual Meeting\nView details: https://lyntonandlynmouthtowncouncil.gov.uk/meetings/annual-council-meeting-5th-may-2021/
URL:https://lyntonandlynmouthtowncouncil.gov.uk/meetings/annual-council-meeting-5th-may-2021/
END:VEVENT
END:VCALENDAR
