BEGIN:VCALENDAR
VERSION:2.0
PRODID:-//Lynton and Lynmouth Town Council//Meeting Calendar//EN
CALSCALE:GREGORIAN
METHOD:PUBLISH
BEGIN:VEVENT
UID:70553-20210101@lyntonandlynmouthtowncouncil.gov.uk
DTSTAMP:20260423T091248Z
DTSTART;VALUE=DATE:20210101
DTEND;VALUE=DATE:20210102
SUMMARY:Policy &#038\\; Finance Committee Meetings &#8211\\; 2021
DESCRIPTION:Policy &amp; Finance Committee Meeting\nView details: https://lyntonandlynmouthtowncouncil.gov.uk/meetings/policy-finance-committee-meetings-2021/
URL:https://lyntonandlynmouthtowncouncil.gov.uk/meetings/policy-finance-committee-meetings-2021/
END:VEVENT
END:VCALENDAR
