BEGIN:VCALENDAR
VERSION:2.0
PRODID:-//Lynton and Lynmouth Town Council//Meeting Calendar//EN
CALSCALE:GREGORIAN
METHOD:PUBLISH
BEGIN:VEVENT
UID:70531-20220520@lyntonandlynmouthtowncouncil.gov.uk
DTSTAMP:20260419T195040Z
DTSTART;VALUE=DATE:20220520
DTEND;VALUE=DATE:20220521
SUMMARY:Annual Council Meeting &#8211\\; 20th May 2022
DESCRIPTION:Annual Meeting\nView details: https://lyntonandlynmouthtowncouncil.gov.uk/meetings/annual-council-meeting-20th-may-2022/
URL:https://lyntonandlynmouthtowncouncil.gov.uk/meetings/annual-council-meeting-20th-may-2022/
END:VEVENT
END:VCALENDAR
