BEGIN:VCALENDAR
VERSION:2.0
PRODID:-//Lynton and Lynmouth Town Council//Meeting Calendar//EN
CALSCALE:GREGORIAN
METHOD:PUBLISH
BEGIN:VEVENT
UID:70500-20220101@lyntonandlynmouthtowncouncil.gov.uk
DTSTAMP:20260419T133825Z
DTSTART;VALUE=DATE:20220101
DTEND;VALUE=DATE:20220102
SUMMARY:Policy &#038\\; Finance Committee Meetings &#8211\\; 2022
DESCRIPTION:Policy &amp; Finance Committee Meeting\nView details: https://lyntonandlynmouthtowncouncil.gov.uk/meetings/policy-finance-committee-meetings-2022/
URL:https://lyntonandlynmouthtowncouncil.gov.uk/meetings/policy-finance-committee-meetings-2022/
END:VEVENT
END:VCALENDAR
