BEGIN:VCALENDAR
VERSION:2.0
PRODID:-//Lynton and Lynmouth Town Council//Meeting Calendar//EN
CALSCALE:GREGORIAN
METHOD:PUBLISH
BEGIN:VEVENT
UID:70483-20230518@lyntonandlynmouthtowncouncil.gov.uk
DTSTAMP:20260419T195221Z
DTSTART;VALUE=DATE:20230518
DTEND;VALUE=DATE:20230519
SUMMARY:Annual Council Meeting &#8211\\; 18th May 2023
DESCRIPTION:Annual Meeting\nView details: https://lyntonandlynmouthtowncouncil.gov.uk/meetings/annual-council-meeting-18th-may-2023/
URL:https://lyntonandlynmouthtowncouncil.gov.uk/meetings/annual-council-meeting-18th-may-2023/
END:VEVENT
END:VCALENDAR
