BEGIN:VCALENDAR
VERSION:2.0
PRODID:-//Lynton and Lynmouth Town Council//Meeting Calendar//EN
CALSCALE:GREGORIAN
METHOD:PUBLISH
BEGIN:VEVENT
UID:70476-20230101@lyntonandlynmouthtowncouncil.gov.uk
DTSTAMP:20260423T105058Z
DTSTART;VALUE=DATE:20230101
DTEND;VALUE=DATE:20230102
SUMMARY:Policy &#038\\; Finance Committee Meetings &#8211\\; 2023
DESCRIPTION:Policy &amp; Finance Committee Meeting\nView details: https://lyntonandlynmouthtowncouncil.gov.uk/meetings/policy-finance-committee-meetings-2023/
URL:https://lyntonandlynmouthtowncouncil.gov.uk/meetings/policy-finance-committee-meetings-2023/
END:VEVENT
END:VCALENDAR
