BEGIN:VCALENDAR
VERSION:2.0
PRODID:-//Lynton and Lynmouth Town Council//Meeting Calendar//EN
CALSCALE:GREGORIAN
METHOD:PUBLISH
BEGIN:VEVENT
UID:70448-20230101@lyntonandlynmouthtowncouncil.gov.uk
DTSTAMP:20260421T083021Z
DTSTART;VALUE=DATE:20230101
DTEND;VALUE=DATE:20230102
SUMMARY:Full Council Meetings &#8211\\; 2023
DESCRIPTION:Full Council Meeting\nView details: https://lyntonandlynmouthtowncouncil.gov.uk/meetings/full-council-meetings-2023/
URL:https://lyntonandlynmouthtowncouncil.gov.uk/meetings/full-council-meetings-2023/
END:VEVENT
END:VCALENDAR
